BEGIN:VCALENDAR
VERSION:2.0
PRODID:-//Spring-Ford Project Outreach - ECPv6.15.20//NONSGML v1.0//EN
CALSCALE:GREGORIAN
METHOD:PUBLISH
X-ORIGINAL-URL:https://spring-fordprojectoutreach.org
X-WR-CALDESC:Events for Spring-Ford Project Outreach
REFRESH-INTERVAL;VALUE=DURATION:PT1H
X-Robots-Tag:noindex
X-PUBLISHED-TTL:PT1H
BEGIN:VTIMEZONE
TZID:America/New_York
BEGIN:DAYLIGHT
TZOFFSETFROM:-0500
TZOFFSETTO:-0400
TZNAME:EDT
DTSTART:20240310T070000
END:DAYLIGHT
BEGIN:STANDARD
TZOFFSETFROM:-0400
TZOFFSETTO:-0500
TZNAME:EST
DTSTART:20241103T060000
END:STANDARD
BEGIN:DAYLIGHT
TZOFFSETFROM:-0500
TZOFFSETTO:-0400
TZNAME:EDT
DTSTART:20250309T070000
END:DAYLIGHT
BEGIN:STANDARD
TZOFFSETFROM:-0400
TZOFFSETTO:-0500
TZNAME:EST
DTSTART:20251102T060000
END:STANDARD
BEGIN:DAYLIGHT
TZOFFSETFROM:-0500
TZOFFSETTO:-0400
TZNAME:EDT
DTSTART:20260308T070000
END:DAYLIGHT
BEGIN:STANDARD
TZOFFSETFROM:-0400
TZOFFSETTO:-0500
TZNAME:EST
DTSTART:20261101T060000
END:STANDARD
END:VTIMEZONE
BEGIN:VEVENT
DTSTART;TZID=America/New_York:20250702T170000
DTEND;TZID=America/New_York:20250702T180000
DTSTAMP:20260421T233631
CREATED:20250514T192033Z
LAST-MODIFIED:20250514T192033Z
UID:2338-1751475600-1751479200@spring-fordprojectoutreach.org
SUMMARY:Food Distribution – Spring City Pantry
DESCRIPTION:
URL:https://spring-fordprojectoutreach.org/event/food-distribution-spring-city-pantry-77/
END:VEVENT
BEGIN:VEVENT
DTSTART;TZID=America/New_York:20250703T103000
DTEND;TZID=America/New_York:20250703T120000
DTSTAMP:20260421T233631
CREATED:20250514T191341Z
LAST-MODIFIED:20250514T191341Z
UID:2312-1751538600-1751544000@spring-fordprojectoutreach.org
SUMMARY:Food Distribution – Royersford and Spring City Pantries
DESCRIPTION:
URL:https://spring-fordprojectoutreach.org/event/food-distribution-royersford-and-spring-city-pantries-81/
END:VEVENT
BEGIN:VEVENT
DTSTART;TZID=America/New_York:20250709T170000
DTEND;TZID=America/New_York:20250709T180000
DTSTAMP:20260421T233631
CREATED:20250514T192053Z
LAST-MODIFIED:20250514T192053Z
UID:2340-1752080400-1752084000@spring-fordprojectoutreach.org
SUMMARY:Food Distribution – Spring City Pantry
DESCRIPTION:
URL:https://spring-fordprojectoutreach.org/event/food-distribution-spring-city-pantry-78/
END:VEVENT
BEGIN:VEVENT
DTSTART;TZID=America/New_York:20250710T103000
DTEND;TZID=America/New_York:20250710T120000
DTSTAMP:20260421T233631
CREATED:20250514T191406Z
LAST-MODIFIED:20250514T191406Z
UID:2314-1752143400-1752148800@spring-fordprojectoutreach.org
SUMMARY:Food Distribution – Royersford and Spring City Pantries
DESCRIPTION:
URL:https://spring-fordprojectoutreach.org/event/food-distribution-royersford-and-spring-city-pantries-82/
END:VEVENT
BEGIN:VEVENT
DTSTART;TZID=America/New_York:20250716T170000
DTEND;TZID=America/New_York:20250716T180000
DTSTAMP:20260421T233631
CREATED:20250514T192110Z
LAST-MODIFIED:20250514T192110Z
UID:2342-1752685200-1752688800@spring-fordprojectoutreach.org
SUMMARY:Food Distribution – Spring City Pantry
DESCRIPTION:
URL:https://spring-fordprojectoutreach.org/event/food-distribution-spring-city-pantry-79/
END:VEVENT
BEGIN:VEVENT
DTSTART;TZID=America/New_York:20250717T103000
DTEND;TZID=America/New_York:20250717T120000
DTSTAMP:20260421T233631
CREATED:20250514T191425Z
LAST-MODIFIED:20250514T191425Z
UID:2316-1752748200-1752753600@spring-fordprojectoutreach.org
SUMMARY:Food Distribution – Royersford and Spring City Pantries
DESCRIPTION:
URL:https://spring-fordprojectoutreach.org/event/food-distribution-royersford-and-spring-city-pantries-83/
END:VEVENT
BEGIN:VEVENT
DTSTART;TZID=America/New_York:20250723T170000
DTEND;TZID=America/New_York:20250723T180000
DTSTAMP:20260421T233631
CREATED:20250514T192131Z
LAST-MODIFIED:20250514T192131Z
UID:2344-1753290000-1753293600@spring-fordprojectoutreach.org
SUMMARY:Food Distribution – Spring City Pantry
DESCRIPTION:
URL:https://spring-fordprojectoutreach.org/event/food-distribution-spring-city-pantry-80/
END:VEVENT
BEGIN:VEVENT
DTSTART;TZID=America/New_York:20250724T103000
DTEND;TZID=America/New_York:20250724T120000
DTSTAMP:20260421T233631
CREATED:20250514T191450Z
LAST-MODIFIED:20250514T191450Z
UID:2318-1753353000-1753358400@spring-fordprojectoutreach.org
SUMMARY:Food Distribution – Royersford and Spring City Pantries
DESCRIPTION:
URL:https://spring-fordprojectoutreach.org/event/food-distribution-royersford-and-spring-city-pantries-84/
END:VEVENT
BEGIN:VEVENT
DTSTART;TZID=America/New_York:20250730T170000
DTEND;TZID=America/New_York:20250730T180000
DTSTAMP:20260421T233631
CREATED:20250514T192149Z
LAST-MODIFIED:20250514T192149Z
UID:2346-1753894800-1753898400@spring-fordprojectoutreach.org
SUMMARY:Food Distribution – Spring City Pantry
DESCRIPTION:
URL:https://spring-fordprojectoutreach.org/event/food-distribution-spring-city-pantry-81/
END:VEVENT
BEGIN:VEVENT
DTSTART;TZID=America/New_York:20250731T103000
DTEND;TZID=America/New_York:20250731T120000
DTSTAMP:20260421T233631
CREATED:20250514T191526Z
LAST-MODIFIED:20250514T191526Z
UID:2320-1753957800-1753963200@spring-fordprojectoutreach.org
SUMMARY:Food Distribution – Royersford and Spring City Pantries
DESCRIPTION:
URL:https://spring-fordprojectoutreach.org/event/food-distribution-royersford-and-spring-city-pantries-85/
END:VEVENT
END:VCALENDAR