BEGIN:VCALENDAR
VERSION:2.0
PRODID:-//Spring-Ford Project Outreach - ECPv6.15.20//NONSGML v1.0//EN
CALSCALE:GREGORIAN
METHOD:PUBLISH
X-WR-CALNAME:Spring-Ford Project Outreach
X-ORIGINAL-URL:https://spring-fordprojectoutreach.org
X-WR-CALDESC:Events for Spring-Ford Project Outreach
REFRESH-INTERVAL;VALUE=DURATION:PT1H
X-Robots-Tag:noindex
X-PUBLISHED-TTL:PT1H
BEGIN:VTIMEZONE
TZID:America/New_York
BEGIN:DAYLIGHT
TZOFFSETFROM:-0500
TZOFFSETTO:-0400
TZNAME:EDT
DTSTART:20240310T070000
END:DAYLIGHT
BEGIN:STANDARD
TZOFFSETFROM:-0400
TZOFFSETTO:-0500
TZNAME:EST
DTSTART:20241103T060000
END:STANDARD
BEGIN:DAYLIGHT
TZOFFSETFROM:-0500
TZOFFSETTO:-0400
TZNAME:EDT
DTSTART:20250309T070000
END:DAYLIGHT
BEGIN:STANDARD
TZOFFSETFROM:-0400
TZOFFSETTO:-0500
TZNAME:EST
DTSTART:20251102T060000
END:STANDARD
BEGIN:DAYLIGHT
TZOFFSETFROM:-0500
TZOFFSETTO:-0400
TZNAME:EDT
DTSTART:20260308T070000
END:DAYLIGHT
BEGIN:STANDARD
TZOFFSETFROM:-0400
TZOFFSETTO:-0500
TZNAME:EST
DTSTART:20261101T060000
END:STANDARD
END:VTIMEZONE
BEGIN:VEVENT
DTSTART;TZID=America/New_York:20250903T170000
DTEND;TZID=America/New_York:20250903T180000
DTSTAMP:20260421T195518
CREATED:20250721T190954Z
LAST-MODIFIED:20250721T190954Z
UID:2398-1756918800-1756922400@spring-fordprojectoutreach.org
SUMMARY:Food Distribution – Spring City Pantry
DESCRIPTION:
URL:https://spring-fordprojectoutreach.org/event/food-distribution-spring-city-pantry-5/
END:VEVENT
BEGIN:VEVENT
DTSTART;TZID=America/New_York:20250904T103000
DTEND;TZID=America/New_York:20250904T120000
DTSTAMP:20260421T195518
CREATED:20250721T190410Z
LAST-MODIFIED:20250721T190410Z
UID:2380-1756981800-1756987200@spring-fordprojectoutreach.org
SUMMARY:Food Distribution – Royersford and Spring City Pantries
DESCRIPTION:
URL:https://spring-fordprojectoutreach.org/event/food-distribution-royersford-and-spring-city-pantries-5/
END:VEVENT
BEGIN:VEVENT
DTSTART;TZID=America/New_York:20250910T170000
DTEND;TZID=America/New_York:20250910T180000
DTSTAMP:20260421T195518
CREATED:20250721T191012Z
LAST-MODIFIED:20250721T191012Z
UID:2400-1757523600-1757527200@spring-fordprojectoutreach.org
SUMMARY:Food Distribution – Spring City Pantry
DESCRIPTION:
URL:https://spring-fordprojectoutreach.org/event/food-distribution-spring-city-pantry-6/
END:VEVENT
BEGIN:VEVENT
DTSTART;TZID=America/New_York:20250911T103000
DTEND;TZID=America/New_York:20250911T120000
DTSTAMP:20260421T195518
CREATED:20250721T190559Z
LAST-MODIFIED:20250721T190559Z
UID:2384-1757586600-1757592000@spring-fordprojectoutreach.org
SUMMARY:Food Distribution – Royersford and Spring City Pantries
DESCRIPTION:
URL:https://spring-fordprojectoutreach.org/event/food-distribution-royersford-and-spring-city-pantries-6/
END:VEVENT
BEGIN:VEVENT
DTSTART;TZID=America/New_York:20250917T170000
DTEND;TZID=America/New_York:20250917T180000
DTSTAMP:20260421T195518
CREATED:20250721T191028Z
LAST-MODIFIED:20250721T191028Z
UID:2402-1758128400-1758132000@spring-fordprojectoutreach.org
SUMMARY:Food Distribution – Spring City Pantry
DESCRIPTION:
URL:https://spring-fordprojectoutreach.org/event/food-distribution-spring-city-pantry-7/
END:VEVENT
BEGIN:VEVENT
DTSTART;TZID=America/New_York:20250918T103000
DTEND;TZID=America/New_York:20250918T120000
DTSTAMP:20260421T195518
CREATED:20250721T190622Z
LAST-MODIFIED:20250721T190622Z
UID:2386-1758191400-1758196800@spring-fordprojectoutreach.org
SUMMARY:Food Distribution – Royersford and Spring City Pantries
DESCRIPTION:
URL:https://spring-fordprojectoutreach.org/event/food-distribution-royersford-and-spring-city-pantries-7/
END:VEVENT
BEGIN:VEVENT
DTSTART;TZID=America/New_York:20250924T170000
DTEND;TZID=America/New_York:20250924T180000
DTSTAMP:20260421T195518
CREATED:20250721T191052Z
LAST-MODIFIED:20250721T191212Z
UID:2404-1758733200-1758736800@spring-fordprojectoutreach.org
SUMMARY:Food Distribution – Spring City Pantry
DESCRIPTION:
URL:https://spring-fordprojectoutreach.org/event/food-distribution-spring-city-pantry-8/
END:VEVENT
BEGIN:VEVENT
DTSTART;TZID=America/New_York:20250925T103000
DTEND;TZID=America/New_York:20250925T120000
DTSTAMP:20260421T195518
CREATED:20250721T190645Z
LAST-MODIFIED:20250721T190645Z
UID:2388-1758796200-1758801600@spring-fordprojectoutreach.org
SUMMARY:Food Distribution – Royersford and Spring City Pantries
DESCRIPTION:
URL:https://spring-fordprojectoutreach.org/event/food-distribution-royersford-and-spring-city-pantries-8/
END:VEVENT
END:VCALENDAR