BEGIN:VCALENDAR
VERSION:2.0
PRODID:-//Spring-Ford Project Outreach - ECPv6.15.20//NONSGML v1.0//EN
CALSCALE:GREGORIAN
METHOD:PUBLISH
X-WR-CALNAME:Spring-Ford Project Outreach
X-ORIGINAL-URL:https://spring-fordprojectoutreach.org
X-WR-CALDESC:Events for Spring-Ford Project Outreach
REFRESH-INTERVAL;VALUE=DURATION:PT1H
X-Robots-Tag:noindex
X-PUBLISHED-TTL:PT1H
BEGIN:VTIMEZONE
TZID:America/New_York
BEGIN:DAYLIGHT
TZOFFSETFROM:-0500
TZOFFSETTO:-0400
TZNAME:EDT
DTSTART:20240310T070000
END:DAYLIGHT
BEGIN:STANDARD
TZOFFSETFROM:-0400
TZOFFSETTO:-0500
TZNAME:EST
DTSTART:20241103T060000
END:STANDARD
BEGIN:DAYLIGHT
TZOFFSETFROM:-0500
TZOFFSETTO:-0400
TZNAME:EDT
DTSTART:20250309T070000
END:DAYLIGHT
BEGIN:STANDARD
TZOFFSETFROM:-0400
TZOFFSETTO:-0500
TZNAME:EST
DTSTART:20251102T060000
END:STANDARD
BEGIN:DAYLIGHT
TZOFFSETFROM:-0500
TZOFFSETTO:-0400
TZNAME:EDT
DTSTART:20260308T070000
END:DAYLIGHT
BEGIN:STANDARD
TZOFFSETFROM:-0400
TZOFFSETTO:-0500
TZNAME:EST
DTSTART:20261101T060000
END:STANDARD
END:VTIMEZONE
BEGIN:VEVENT
DTSTART;TZID=America/New_York:20251001T170000
DTEND;TZID=America/New_York:20251001T180000
DTSTAMP:20260421T181231
CREATED:20251012T172651Z
LAST-MODIFIED:20251012T172651Z
UID:2465-1759338000-1759341600@spring-fordprojectoutreach.org
SUMMARY:Food Distribution - Spring City Pantry
DESCRIPTION:
URL:https://spring-fordprojectoutreach.org/event/food-distribution-spring-city-pantry-9/
END:VEVENT
BEGIN:VEVENT
DTSTART;TZID=America/New_York:20251002T103000
DTEND;TZID=America/New_York:20251002T120000
DTSTAMP:20260421T181231
CREATED:20251012T171234Z
LAST-MODIFIED:20251012T171234Z
UID:2433-1759401000-1759406400@spring-fordprojectoutreach.org
SUMMARY:Food Distribution – Royersford and Spring City Pantries
DESCRIPTION:
URL:https://spring-fordprojectoutreach.org/event/food-distribution-royersford-and-spring-city-pantries-9/
END:VEVENT
BEGIN:VEVENT
DTSTART;TZID=America/New_York:20251008T170000
DTEND;TZID=America/New_York:20251008T180000
DTSTAMP:20260421T181231
CREATED:20251012T172712Z
LAST-MODIFIED:20251012T172712Z
UID:2467-1759942800-1759946400@spring-fordprojectoutreach.org
SUMMARY:Food Distribution - Spring City Pantry
DESCRIPTION:
URL:https://spring-fordprojectoutreach.org/event/food-distribution-spring-city-pantry-10/
END:VEVENT
BEGIN:VEVENT
DTSTART;TZID=America/New_York:20251009T103000
DTEND;TZID=America/New_York:20251009T120000
DTSTAMP:20260421T181231
CREATED:20251012T171311Z
LAST-MODIFIED:20251012T171311Z
UID:2435-1760005800-1760011200@spring-fordprojectoutreach.org
SUMMARY:Food Distribution – Royersford and Spring City Pantries
DESCRIPTION:
URL:https://spring-fordprojectoutreach.org/event/food-distribution-royersford-and-spring-city-pantries-10/
END:VEVENT
BEGIN:VEVENT
DTSTART;TZID=America/New_York:20251015T170000
DTEND;TZID=America/New_York:20251015T180000
DTSTAMP:20260421T181231
CREATED:20251012T172730Z
LAST-MODIFIED:20251012T172730Z
UID:2469-1760547600-1760551200@spring-fordprojectoutreach.org
SUMMARY:Food Distribution - Spring City Pantry
DESCRIPTION:
URL:https://spring-fordprojectoutreach.org/event/food-distribution-spring-city-pantry-11/
END:VEVENT
BEGIN:VEVENT
DTSTART;TZID=America/New_York:20251016T103000
DTEND;TZID=America/New_York:20251016T120000
DTSTAMP:20260421T181231
CREATED:20251012T171345Z
LAST-MODIFIED:20251012T171345Z
UID:2437-1760610600-1760616000@spring-fordprojectoutreach.org
SUMMARY:Food Distribution – Royersford and Spring City Pantries
DESCRIPTION:
URL:https://spring-fordprojectoutreach.org/event/food-distribution-royersford-and-spring-city-pantries-11/
END:VEVENT
BEGIN:VEVENT
DTSTART;TZID=America/New_York:20251022T170000
DTEND;TZID=America/New_York:20251022T180000
DTSTAMP:20260421T181231
CREATED:20251012T172751Z
LAST-MODIFIED:20251012T172751Z
UID:2471-1761152400-1761156000@spring-fordprojectoutreach.org
SUMMARY:Food Distribution - Spring City Pantry
DESCRIPTION:
URL:https://spring-fordprojectoutreach.org/event/food-distribution-spring-city-pantry-12/
END:VEVENT
BEGIN:VEVENT
DTSTART;TZID=America/New_York:20251023T103000
DTEND;TZID=America/New_York:20251023T120000
DTSTAMP:20260421T181231
CREATED:20251012T171408Z
LAST-MODIFIED:20251012T171408Z
UID:2439-1761215400-1761220800@spring-fordprojectoutreach.org
SUMMARY:Food Distribution – Royersford and Spring City Pantries
DESCRIPTION:
URL:https://spring-fordprojectoutreach.org/event/food-distribution-royersford-and-spring-city-pantries-12/
END:VEVENT
BEGIN:VEVENT
DTSTART;TZID=America/New_York:20251029T170000
DTEND;TZID=America/New_York:20251029T180000
DTSTAMP:20260421T181231
CREATED:20251012T172808Z
LAST-MODIFIED:20251012T172808Z
UID:2473-1761757200-1761760800@spring-fordprojectoutreach.org
SUMMARY:Food Distribution - Spring City Pantry
DESCRIPTION:
URL:https://spring-fordprojectoutreach.org/event/food-distribution-spring-city-pantry-13/
END:VEVENT
BEGIN:VEVENT
DTSTART;TZID=America/New_York:20251030T103000
DTEND;TZID=America/New_York:20251030T120000
DTSTAMP:20260421T181231
CREATED:20251012T171431Z
LAST-MODIFIED:20251012T171431Z
UID:2441-1761820200-1761825600@spring-fordprojectoutreach.org
SUMMARY:Food Distribution – Royersford and Spring City Pantries
DESCRIPTION:
URL:https://spring-fordprojectoutreach.org/event/food-distribution-royersford-and-spring-city-pantries-13/
END:VEVENT
END:VCALENDAR