BEGIN:VCALENDAR
VERSION:2.0
PRODID:-//Spring-Ford Project Outreach - ECPv6.15.20//NONSGML v1.0//EN
CALSCALE:GREGORIAN
METHOD:PUBLISH
X-WR-CALNAME:Spring-Ford Project Outreach
X-ORIGINAL-URL:https://spring-fordprojectoutreach.org
X-WR-CALDESC:Events for Spring-Ford Project Outreach
REFRESH-INTERVAL;VALUE=DURATION:PT1H
X-Robots-Tag:noindex
X-PUBLISHED-TTL:PT1H
BEGIN:VTIMEZONE
TZID:America/New_York
BEGIN:DAYLIGHT
TZOFFSETFROM:-0500
TZOFFSETTO:-0400
TZNAME:EDT
DTSTART:20250309T070000
END:DAYLIGHT
BEGIN:STANDARD
TZOFFSETFROM:-0400
TZOFFSETTO:-0500
TZNAME:EST
DTSTART:20251102T060000
END:STANDARD
BEGIN:DAYLIGHT
TZOFFSETFROM:-0500
TZOFFSETTO:-0400
TZNAME:EDT
DTSTART:20260308T070000
END:DAYLIGHT
BEGIN:STANDARD
TZOFFSETFROM:-0400
TZOFFSETTO:-0500
TZNAME:EST
DTSTART:20261101T060000
END:STANDARD
BEGIN:DAYLIGHT
TZOFFSETFROM:-0500
TZOFFSETTO:-0400
TZNAME:EDT
DTSTART:20270314T070000
END:DAYLIGHT
BEGIN:STANDARD
TZOFFSETFROM:-0400
TZOFFSETTO:-0500
TZNAME:EST
DTSTART:20271107T060000
END:STANDARD
END:VTIMEZONE
BEGIN:VEVENT
DTSTART;TZID=America/New_York:20260304T160000
DTEND;TZID=America/New_York:20260304T170000
DTSTAMP:20260421T095053
CREATED:20260318T182358Z
LAST-MODIFIED:20260318T182358Z
UID:2559-1772640000-1772643600@spring-fordprojectoutreach.org
SUMMARY:Food Distribution - Spring City Pantry
DESCRIPTION:
URL:https://spring-fordprojectoutreach.org/event/food-distribution-spring-city-pantry-23/
END:VEVENT
BEGIN:VEVENT
DTSTART;TZID=America/New_York:20260305T103000
DTEND;TZID=America/New_York:20260305T120000
DTSTAMP:20260421T095053
CREATED:20260318T181311Z
LAST-MODIFIED:20260318T181311Z
UID:2533-1772706600-1772712000@spring-fordprojectoutreach.org
SUMMARY:Food Distribution - Royersford and Spring City Pantries
DESCRIPTION:
URL:https://spring-fordprojectoutreach.org/event/food-distribution-royersford-and-spring-city-pantries-23/
END:VEVENT
BEGIN:VEVENT
DTSTART;TZID=America/New_York:20260311T160000
DTEND;TZID=America/New_York:20260311T170000
DTSTAMP:20260421T095053
CREATED:20260318T182418Z
LAST-MODIFIED:20260318T182418Z
UID:2561-1773244800-1773248400@spring-fordprojectoutreach.org
SUMMARY:Food Distribution - Spring City Pantry
DESCRIPTION:
URL:https://spring-fordprojectoutreach.org/event/food-distribution-spring-city-pantry-24/
END:VEVENT
BEGIN:VEVENT
DTSTART;TZID=America/New_York:20260312T103000
DTEND;TZID=America/New_York:20260312T120000
DTSTAMP:20260421T095053
CREATED:20260318T181439Z
LAST-MODIFIED:20260318T181439Z
UID:2535-1773311400-1773316800@spring-fordprojectoutreach.org
SUMMARY:Food Distribution - Royersford and Spring City Pantries
DESCRIPTION:
URL:https://spring-fordprojectoutreach.org/event/food-distribution-royersford-and-spring-city-pantries-24/
END:VEVENT
BEGIN:VEVENT
DTSTART;TZID=America/New_York:20260318T160000
DTEND;TZID=America/New_York:20260318T170000
DTSTAMP:20260421T095053
CREATED:20260318T182439Z
LAST-MODIFIED:20260318T182439Z
UID:2563-1773849600-1773853200@spring-fordprojectoutreach.org
SUMMARY:Food Distribution - Spring City Pantry
DESCRIPTION:
URL:https://spring-fordprojectoutreach.org/event/food-distribution-spring-city-pantry-25/
END:VEVENT
BEGIN:VEVENT
DTSTART;TZID=America/New_York:20260319T103000
DTEND;TZID=America/New_York:20260319T120000
DTSTAMP:20260421T095053
CREATED:20260318T181504Z
LAST-MODIFIED:20260318T181504Z
UID:2537-1773916200-1773921600@spring-fordprojectoutreach.org
SUMMARY:Food Distribution - Royersford and Spring City Pantries
DESCRIPTION:
URL:https://spring-fordprojectoutreach.org/event/food-distribution-royersford-and-spring-city-pantries-25/
END:VEVENT
BEGIN:VEVENT
DTSTART;TZID=America/New_York:20260325T160000
DTEND;TZID=America/New_York:20260325T170000
DTSTAMP:20260421T095053
CREATED:20260318T182501Z
LAST-MODIFIED:20260318T182501Z
UID:2565-1774454400-1774458000@spring-fordprojectoutreach.org
SUMMARY:Food Distribution - Spring City Pantry
DESCRIPTION:
URL:https://spring-fordprojectoutreach.org/event/food-distribution-spring-city-pantry-26/
END:VEVENT
BEGIN:VEVENT
DTSTART;TZID=America/New_York:20260326T103000
DTEND;TZID=America/New_York:20260326T120000
DTSTAMP:20260421T095053
CREATED:20260318T181531Z
LAST-MODIFIED:20260318T181531Z
UID:2539-1774521000-1774526400@spring-fordprojectoutreach.org
SUMMARY:Food Distribution - Royersford and Spring City Pantries
DESCRIPTION:
URL:https://spring-fordprojectoutreach.org/event/food-distribution-royersford-and-spring-city-pantries-26/
END:VEVENT
END:VCALENDAR