BEGIN:VCALENDAR
VERSION:2.0
PRODID:-//Spring-Ford Project Outreach - ECPv6.15.20//NONSGML v1.0//EN
CALSCALE:GREGORIAN
METHOD:PUBLISH
X-ORIGINAL-URL:https://spring-fordprojectoutreach.org
X-WR-CALDESC:Events for Spring-Ford Project Outreach
REFRESH-INTERVAL;VALUE=DURATION:PT1H
X-Robots-Tag:noindex
X-PUBLISHED-TTL:PT1H
BEGIN:VTIMEZONE
TZID:America/New_York
BEGIN:DAYLIGHT
TZOFFSETFROM:-0500
TZOFFSETTO:-0400
TZNAME:EDT
DTSTART:20250309T070000
END:DAYLIGHT
BEGIN:STANDARD
TZOFFSETFROM:-0400
TZOFFSETTO:-0500
TZNAME:EST
DTSTART:20251102T060000
END:STANDARD
BEGIN:DAYLIGHT
TZOFFSETFROM:-0500
TZOFFSETTO:-0400
TZNAME:EDT
DTSTART:20260308T070000
END:DAYLIGHT
BEGIN:STANDARD
TZOFFSETFROM:-0400
TZOFFSETTO:-0500
TZNAME:EST
DTSTART:20261101T060000
END:STANDARD
BEGIN:DAYLIGHT
TZOFFSETFROM:-0500
TZOFFSETTO:-0400
TZNAME:EDT
DTSTART:20270314T070000
END:DAYLIGHT
BEGIN:STANDARD
TZOFFSETFROM:-0400
TZOFFSETTO:-0500
TZNAME:EST
DTSTART:20271107T060000
END:STANDARD
END:VTIMEZONE
BEGIN:VEVENT
DTSTART;TZID=America/New_York:20260422T160000
DTEND;TZID=America/New_York:20260422T170000
DTSTAMP:20260421T081547
CREATED:20260318T182653Z
LAST-MODIFIED:20260318T182653Z
UID:2573-1776873600-1776877200@spring-fordprojectoutreach.org
SUMMARY:Food Distribution - Spring City Pantry
DESCRIPTION:
URL:https://spring-fordprojectoutreach.org/event/food-distribution-spring-city-pantry-30/
END:VEVENT
BEGIN:VEVENT
DTSTART;TZID=America/New_York:20260423T103000
DTEND;TZID=America/New_York:20260423T120000
DTSTAMP:20260421T081547
CREATED:20260318T181712Z
LAST-MODIFIED:20260318T181712Z
UID:2547-1776940200-1776945600@spring-fordprojectoutreach.org
SUMMARY:Food Distribution - Royersford and Spring City Pantries
DESCRIPTION:
URL:https://spring-fordprojectoutreach.org/event/food-distribution-royersford-and-spring-city-pantries-30/
END:VEVENT
BEGIN:VEVENT
DTSTART;TZID=America/New_York:20260429T160000
DTEND;TZID=America/New_York:20260429T170000
DTSTAMP:20260421T081547
CREATED:20260318T182716Z
LAST-MODIFIED:20260318T182716Z
UID:2575-1777478400-1777482000@spring-fordprojectoutreach.org
SUMMARY:Food Distribution - Spring City Pantry
DESCRIPTION:
URL:https://spring-fordprojectoutreach.org/event/food-distribution-spring-city-pantry-31/
END:VEVENT
BEGIN:VEVENT
DTSTART;TZID=America/New_York:20260430T103000
DTEND;TZID=America/New_York:20260430T120000
DTSTAMP:20260421T081547
CREATED:20260318T181737Z
LAST-MODIFIED:20260318T181737Z
UID:2549-1777545000-1777550400@spring-fordprojectoutreach.org
SUMMARY:Food Distribution - Royersford and Spring City Pantries
DESCRIPTION:
URL:https://spring-fordprojectoutreach.org/event/food-distribution-royersford-and-spring-city-pantries-31/
END:VEVENT
END:VCALENDAR